BEGIN:VCALENDAR
VERSION:2.0
PRODID:-//Vox Cantabilis - ECPv6.15.20//NONSGML v1.0//EN
CALSCALE:GREGORIAN
METHOD:PUBLISH
X-ORIGINAL-URL:https://www.voxcantabilis.com
X-WR-CALDESC:Veranstaltungen für Vox Cantabilis
REFRESH-INTERVAL;VALUE=DURATION:PT1H
X-Robots-Tag:noindex
X-PUBLISHED-TTL:PT1H
BEGIN:VTIMEZONE
TZID:Europe/Berlin
BEGIN:DAYLIGHT
TZOFFSETFROM:+0100
TZOFFSETTO:+0200
TZNAME:CEST
DTSTART:20220327T010000
END:DAYLIGHT
BEGIN:STANDARD
TZOFFSETFROM:+0200
TZOFFSETTO:+0100
TZNAME:CET
DTSTART:20221030T010000
END:STANDARD
BEGIN:DAYLIGHT
TZOFFSETFROM:+0100
TZOFFSETTO:+0200
TZNAME:CEST
DTSTART:20230326T010000
END:DAYLIGHT
BEGIN:STANDARD
TZOFFSETFROM:+0200
TZOFFSETTO:+0100
TZNAME:CET
DTSTART:20231029T010000
END:STANDARD
BEGIN:DAYLIGHT
TZOFFSETFROM:+0100
TZOFFSETTO:+0200
TZNAME:CEST
DTSTART:20240331T010000
END:DAYLIGHT
BEGIN:STANDARD
TZOFFSETFROM:+0200
TZOFFSETTO:+0100
TZNAME:CET
DTSTART:20241027T010000
END:STANDARD
END:VTIMEZONE
BEGIN:VEVENT
DTSTART;TZID=Europe/Berlin:20230225T193000
DTEND;TZID=Europe/Berlin:20230225T210000
DTSTAMP:20260423T004719
CREATED:20220305T092630Z
LAST-MODIFIED:20230215T091616Z
UID:648-1677353400-1677358800@www.voxcantabilis.com
SUMMARY:Abend der Kultur
DESCRIPTION:
URL:https://www.voxcantabilis.com/termin/chorprobe-5/
LOCATION:Kultursaal Bischofshofen\, Hauptschulstraße 27\, Bischofshofen\, Salzburg\, 5500
END:VEVENT
END:VCALENDAR