BEGIN:VCALENDAR
VERSION:2.0
PRODID:-//Vox Cantabilis - ECPv6.15.20//NONSGML v1.0//EN
CALSCALE:GREGORIAN
METHOD:PUBLISH
X-WR-CALNAME:Vox Cantabilis
X-ORIGINAL-URL:https://www.voxcantabilis.com
X-WR-CALDESC:Veranstaltungen für Vox Cantabilis
REFRESH-INTERVAL;VALUE=DURATION:PT1H
X-Robots-Tag:noindex
X-PUBLISHED-TTL:PT1H
BEGIN:VTIMEZONE
TZID:Europe/Berlin
BEGIN:DAYLIGHT
TZOFFSETFROM:+0100
TZOFFSETTO:+0200
TZNAME:CEST
DTSTART:20230326T010000
END:DAYLIGHT
BEGIN:STANDARD
TZOFFSETFROM:+0200
TZOFFSETTO:+0100
TZNAME:CET
DTSTART:20231029T010000
END:STANDARD
BEGIN:DAYLIGHT
TZOFFSETFROM:+0100
TZOFFSETTO:+0200
TZNAME:CEST
DTSTART:20240331T010000
END:DAYLIGHT
BEGIN:STANDARD
TZOFFSETFROM:+0200
TZOFFSETTO:+0100
TZNAME:CET
DTSTART:20241027T010000
END:STANDARD
BEGIN:DAYLIGHT
TZOFFSETFROM:+0100
TZOFFSETTO:+0200
TZNAME:CEST
DTSTART:20250330T010000
END:DAYLIGHT
BEGIN:STANDARD
TZOFFSETFROM:+0200
TZOFFSETTO:+0100
TZNAME:CET
DTSTART:20251026T010000
END:STANDARD
END:VTIMEZONE
BEGIN:VEVENT
DTSTART;TZID=Europe/Berlin:20241020T180000
DTEND;TZID=Europe/Berlin:20241020T200000
DTSTAMP:20260421T142555
CREATED:20240926T162607Z
LAST-MODIFIED:20241016T173454Z
UID:1131-1729447200-1729454400@www.voxcantabilis.com
SUMMARY:Canterbury - Reisebericht
DESCRIPTION:
URL:https://www.voxcantabilis.com/termin/canterbury-reisebericht/
LOCATION:Kultursaal Bischofshofen\, Hauptschulstraße 27\, Bischofshofen\, Salzburg\, 5500
ATTACH;FMTTYPE=image/jpeg:https://www.voxcantabilis.com/wp-content/uploads/2024/10/Plakat-A2-2024-10-25-VOX-.jpeg
END:VEVENT
END:VCALENDAR