BEGIN:VCALENDAR
VERSION:2.0
PRODID:-//Vox Cantabilis - ECPv6.15.20//NONSGML v1.0//EN
CALSCALE:GREGORIAN
METHOD:PUBLISH
X-ORIGINAL-URL:https://www.voxcantabilis.com
X-WR-CALDESC:Veranstaltungen für Vox Cantabilis
REFRESH-INTERVAL;VALUE=DURATION:PT1H
X-Robots-Tag:noindex
X-PUBLISHED-TTL:PT1H
BEGIN:VTIMEZONE
TZID:Europe/Berlin
BEGIN:DAYLIGHT
TZOFFSETFROM:+0100
TZOFFSETTO:+0200
TZNAME:CEST
DTSTART:20230326T010000
END:DAYLIGHT
BEGIN:STANDARD
TZOFFSETFROM:+0200
TZOFFSETTO:+0100
TZNAME:CET
DTSTART:20231029T010000
END:STANDARD
BEGIN:DAYLIGHT
TZOFFSETFROM:+0100
TZOFFSETTO:+0200
TZNAME:CEST
DTSTART:20240331T010000
END:DAYLIGHT
BEGIN:STANDARD
TZOFFSETFROM:+0200
TZOFFSETTO:+0100
TZNAME:CET
DTSTART:20241027T010000
END:STANDARD
BEGIN:DAYLIGHT
TZOFFSETFROM:+0100
TZOFFSETTO:+0200
TZNAME:CEST
DTSTART:20250330T010000
END:DAYLIGHT
BEGIN:STANDARD
TZOFFSETFROM:+0200
TZOFFSETTO:+0100
TZNAME:CET
DTSTART:20251026T010000
END:STANDARD
END:VTIMEZONE
BEGIN:VEVENT
DTSTART;TZID=Europe/Berlin:20240811T140000
DTEND;TZID=Europe/Berlin:20240811T200000
DTSTAMP:20260421T160228
CREATED:20240415T161129Z
LAST-MODIFIED:20240729T185456Z
UID:1026-1723384800-1723406400@www.voxcantabilis.com
SUMMARY:Probennachmittag für Canterbury
DESCRIPTION:
URL:https://www.voxcantabilis.com/termin/probennachmittag-fuer-canterbury/
LOCATION:Salzburg
END:VEVENT
BEGIN:VEVENT
DTSTART;VALUE=DATE:20240829
DTEND;VALUE=DATE:20240831
DTSTAMP:20260421T160228
CREATED:20230903T115709Z
LAST-MODIFIED:20230903T115709Z
UID:953-1724889600-1725062399@www.voxcantabilis.com
SUMMARY:Chorreise nach Canterbury
DESCRIPTION:
URL:https://www.voxcantabilis.com/termin/chorreise-nach-canterbury/
LOCATION:Canterbury\, 11 The Precincts\, Canterbury\, Großbritannien
END:VEVENT
END:VCALENDAR